BEGIN:VCALENDAR
VERSION:2.0
PRODID:-//Plone.org//NONSGML plone.app.event//EN
X-WR-TIMEZONE:Europe/Madrid
BEGIN:VEVENT
SUMMARY:Liburuaren eguna
DTSTART;TZID=Europe/Madrid:20260425T110000
DTEND;TZID=Europe/Madrid:20260425T130000
DTSTAMP:20260421T103049Z
UID:93959acc239b41fd946815592e139220@backend:8080
CONTACT:Kultur elkartea
CREATED:20260420T150759Z
LAST-MODIFIED:20260420T150803Z
LOCATION:Kultur elkartea
URL:http://backend:8080/Plone/eu/aktualitatea/agenda/liburuaren-eguna-3
END:VEVENT
BEGIN:VTIMEZONE
TZID:Europe/Madrid
X-LIC-LOCATION:Europe/Madrid
BEGIN:DAYLIGHT
DTSTART:20260329T030000
TZNAME:CEST
TZOFFSETFROM:+0100
TZOFFSETTO:+0200
END:DAYLIGHT
END:VTIMEZONE
END:VCALENDAR
