BEGIN:VCALENDAR
VERSION:2.0
PRODID:-//Plone.org//NONSGML plone.app.event//EN
X-WR-TIMEZONE:Europe/Madrid
BEGIN:VEVENT
SUMMARY:Hizkuntza eta kulturaren garraio\,  autobide\, bidezidor eta bideg
 orri mapa bat-Lorea Agirre
DTSTART;TZID=Etc/GMT-1:20131122T180000
DTEND;TZID=Etc/GMT-1:20131122T193000
DTSTAMP:20260421T090916Z
UID:2fe8de114574416e87dcebc289616c51@backend:8080
CONTACT:Amaia Zinkunegi\, 943608048
CREATED:20211217T123135Z
DESCRIPTION:Euskararen normalizazioan orain arte egin edo lortu denaz jabe
 tzea eta\, batez ere\, hemendik aurrera egiteko dagoenaz\, egiteko moduaz 
 eta zertarakoaz pentsatzen joatea da hitzaldi hauen helburua.
LAST-MODIFIED:20221219T092917Z
LOCATION:Agirre jauregiko ispiluen gela
URL:http://backend:8080/Plone/eu/aktualitatea/agenda/lorea-agirreren-hitza
 ldia
END:VEVENT
END:VCALENDAR
