BEGIN:VCALENDAR
VERSION:2.0
PRODID:-//Plone.org//NONSGML plone.app.event//EN
X-WR-TIMEZONE:Europe/Madrid
BEGIN:VEVENT
SUMMARY:Magia ikuskizuna: Alain Zulaika
DTSTART;TZID=Europe/Madrid:20260313T200000
DTEND;TZID=Europe/Madrid:20260313T213000
DTSTAMP:20260421T091504Z
UID:13ce25853a954f4dae9506ed02ebc123@backend:8080
CONTACT:http://labur.eus/nialakulturekin
CREATED:20260206T091701Z
LAST-MODIFIED:20260210T085619Z
LOCATION:Kultur elkartea
URL:http://backend:8080/Plone/eu/aktualitatea/agenda/magia-ikuskizuna-alai
 n-zulaika
END:VEVENT
BEGIN:VTIMEZONE
TZID:Europe/Madrid
X-LIC-LOCATION:Europe/Madrid
BEGIN:STANDARD
DTSTART:20251026T020000
TZNAME:CET
TZOFFSETFROM:+0200
TZOFFSETTO:+0100
END:STANDARD
END:VTIMEZONE
END:VCALENDAR
