BEGIN:VCALENDAR
VERSION:2.0
PRODID:-//Plone.org//NONSGML plone.app.event//EN
X-WR-TIMEZONE:Europe/Madrid
BEGIN:VEVENT
SUMMARY:NAZIOARTEKO FLYSCH ORGANO Kontzertua
DTSTART;TZID=Etc/GMT-2:20220716T200000
DTEND;TZID=Etc/GMT-2:20220716T213000
DTSTAMP:20260421T104200Z
UID:6cff8b5d3fe04a87bc271b418174a4cd@backend:8080
CREATED:20221219T093259Z
DESCRIPTION:SANTIAGO BANDA ETA ANA B. GARCIA\n\n\n\n
LAST-MODIFIED:20221219T093300Z
LOCATION:Santa Maria eliza
URL:http://backend:8080/Plone/eu/aktualitatea/agenda/nazioarteko-flysch-or
 gano-kontzertua
END:VEVENT
END:VCALENDAR
