BEGIN:VCALENDAR
VERSION:2.0
PRODID:-//Plone.org//NONSGML plone.app.event//EN
X-WR-TIMEZONE:Europe/Madrid
BEGIN:VEVENT
SUMMARY:Ohiko Osoko Bilkura
DTSTART;TZID=Europe/Madrid:20251218T190000
DTEND;TZID=Europe/Madrid:20251218T203000
DTSTAMP:20260421T084946Z
UID:e102adabbeac4cf38eefd4b94e34969a@backend:8080
CONTACT:Debako Udala\, https://www.deba.eus/eu/udala/aktak/osoko-bilkura/0
 _2025sple0011_deialdia.pdf
CREATED:20251218T154341Z
LAST-MODIFIED:20251218T155531Z
LOCATION:Udaletxeko osoko bilkuren aretoa
URL:http://backend:8080/Plone/eu/aktualitatea/agenda/ohiko-bilkura
END:VEVENT
BEGIN:VTIMEZONE
TZID:Europe/Madrid
X-LIC-LOCATION:Europe/Madrid
BEGIN:STANDARD
DTSTART:20251026T020000
TZNAME:CET
TZOFFSETFROM:+0200
TZOFFSETTO:+0100
END:STANDARD
END:VTIMEZONE
END:VCALENDAR
