BEGIN:VCALENDAR
VERSION:2.0
PRODID:-//Plone.org//NONSGML plone.app.event//EN
X-WR-TIMEZONE:Europe/Madrid
BEGIN:VEVENT
SUMMARY:Ohiko Osoko Bilkura
DTSTART;TZID=Europe/Madrid:20240926T190000
DTEND;TZID=Europe/Madrid:20240926T200000
DTSTAMP:20260421T091307Z
UID:47e26ea3c7874c05963c607acbd9be65@backend:8080
CONTACT:Debako Udala\, 943192840\, https://www.deba.eus/eu/udala/aktak/oso
 ko-bilkura/0_2024sple0010_deialdia.pdf
CREATED:20240924T113353Z
LAST-MODIFIED:20240924T113515Z
LOCATION:Udaletxeko osoko bilkuren aretoa
URL:http://backend:8080/Plone/eu/aktualitatea/agenda/ohiko-osoko-bilkura
END:VEVENT
BEGIN:VTIMEZONE
TZID:Europe/Madrid
X-LIC-LOCATION:Europe/Madrid
BEGIN:DAYLIGHT
DTSTART:20240331T030000
TZNAME:CEST
TZOFFSETFROM:+0100
TZOFFSETTO:+0200
END:DAYLIGHT
END:VTIMEZONE
END:VCALENDAR
