BEGIN:VCALENDAR
VERSION:2.0
PRODID:-//Plone.org//NONSGML plone.app.event//EN
X-WR-TIMEZONE:Europe/Madrid
BEGIN:VEVENT
SUMMARY:Oteizaren Hazia: Oteizari buruzko filma "Fragmentos" (Zine-foruma)
DTSTART;TZID=Etc/GMT-2:20131015T190000
DTEND;TZID=Etc/GMT-2:20131015T203000
DTSTAMP:20260421T090556Z
UID:1ace33cec2784094b33d83c7ec20dc82@backend:8080
CONTACT:http://www.deba.net/eu/udala/udala
CREATED:20211217T123134Z
DESCRIPTION:Filma gaztelaniaz izango da
LAST-MODIFIED:20221219T092916Z
LOCATION:Kultur Elkartea
URL:http://backend:8080/Plone/eu/aktualitatea/agenda/oteizaren-hazia-oteiz
 ari-buruzko-filma-fragmentos-zine-foruma
END:VEVENT
END:VCALENDAR
