BEGIN:VCALENDAR
VERSION:2.0
PRODID:-//Plone.org//NONSGML plone.app.event//EN
X-WR-TIMEZONE:Europe/Madrid
BEGIN:VEVENT
SUMMARY:Txistua eta pianoa: Metamorfosia 
DTSTART;TZID=Etc/GMT-2:20200820T203000
DTEND;TZID=Etc/GMT-2:20200820T213000
DTSTAMP:20260425T204024Z
UID:ef34193ca8e440069abebe770ded64a3@backend:8080
CREATED:20211217T123859Z
DESCRIPTION:Gonbidapena beharrezkoa da\, turismo bulegoan eskatu.
LAST-MODIFIED:20221219T093239Z
LOCATION:Santa Maria Eliza
URL:http://backend:8080/Plone/eu/aktualitatea/agenda/txistua-eta-pianoa-me
 tamorfosia
END:VEVENT
END:VCALENDAR
