BEGIN:VCALENDAR
VERSION:2.0
PRODID:-//Plone.org//NONSGML plone.app.event//EN
X-WR-TIMEZONE:Europe/Madrid
BEGIN:VEVENT
SUMMARY:Urrezko aizkora
DTSTART;TZID=Etc/GMT-1:20150104T120000
DTEND;TZID=Etc/GMT-1:20150104T150000
DTSTAMP:20260421T105253Z
UID:01d6cbeef4f048e8be27067264e86c3e@backend:8080
CREATED:20211217T123222Z
LAST-MODIFIED:20221219T092940Z
LOCATION:Aldats Pilotalekuan
URL:http://backend:8080/Plone/eu/aktualitatea/agenda/urrezko-aizkora
END:VEVENT
END:VCALENDAR
