BEGIN:VCALENDAR
VERSION:2.0
PRODID:-//Plone.org//NONSGML plone.app.event//EN
X-WR-TIMEZONE:Europe/Madrid
BEGIN:VEVENT
SUMMARY:Urteberriko Harrijasotze Lehiaketa
DTSTART;TZID=Etc/GMT-1:20140105T120000
DTEND;TZID=Etc/GMT-1:20140105T140000
DTSTAMP:20260421T091330Z
UID:4656a5c7f0c0455c8e9bfe788ccc81d4@backend:8080
CREATED:20211217T123145Z
LAST-MODIFIED:20221219T092922Z
LOCATION:ALDATS Pilotalekuan
URL:http://backend:8080/Plone/eu/aktualitatea/agenda/urteberriko-harrijaso
 tze-lehiaketa
END:VEVENT
END:VCALENDAR
