BEGIN:VCALENDAR
VERSION:2.0
PRODID:-//Plone.org//NONSGML plone.app.event//EN
X-WR-TIMEZONE:Europe/Madrid
BEGIN:VEVENT
SUMMARY:V. San Silbestre lasterketa herrikoia 
DTSTART;TZID=Etc/GMT-1:20131231T111500
DTEND;TZID=Etc/GMT-1:20131231T111500
DTSTAMP:20260421T085736Z
UID:0f6a504fe6f24ff8864703602e04d745@backend:8080
CREATED:20211217T123143Z
LAST-MODIFIED:20221219T092921Z
URL:http://backend:8080/Plone/eu/aktualitatea/agenda/v-san-silbestre-laste
 rketa-herrikoia-12-00-etan
END:VEVENT
END:VCALENDAR
