BEGIN:VCALENDAR
VERSION:2.0
PRODID:-//Plone.org//NONSGML plone.app.event//EN
X-WR-TIMEZONE:Europe/Madrid
BEGIN:VEVENT
SUMMARY:VI. Flysch beltza igeri zeharkaldia
DTSTART;TZID=Etc/GMT-2:20190921T100000
DTEND;TZID=Etc/GMT-2:20190921T130000
DTSTAMP:20260424T234943Z
UID:333c70ed8df943a5adf0276ff6f3cc13@backend:8080
CONTACT:https://flyschbeltzatrabesia.wordpress.com/
CREATED:20211217T123807Z
DESCRIPTION:Saturraran-Mutriku-Deba
LAST-MODIFIED:20221219T093215Z
URL:http://backend:8080/Plone/eu/aktualitatea/agenda/vi-flysch-beltza-iger
 i-zeharkaldia
END:VEVENT
END:VCALENDAR
