BEGIN:VCALENDAR
VERSION:2.0
PRODID:-//Plone.org//NONSGML plone.app.event//EN
X-WR-TIMEZONE:Europe/Madrid
BEGIN:VEVENT
SUMMARY:Xake Festa Deba 2024
DTSTART;TZID=Europe/Madrid:20241223T170000
DTEND;TZID=Europe/Madrid:20241223T183000
DTSTAMP:20260421T084916Z
UID:cea9f9ab9a0845ee81b037c6a7c4d9eb@backend:8080
CONTACT:https://www.deba.eus/eu/aktualitatea/albisteak/xake-festa-ospatuko
 -du-debak-abenduaren-23an
CREATED:20241210T095745Z
LAST-MODIFIED:20241210T103421Z
LOCATION:Ispiluen gela
URL:http://backend:8080/Plone/eu/aktualitatea/agenda/xake-festa
END:VEVENT
BEGIN:VTIMEZONE
TZID:Europe/Madrid
X-LIC-LOCATION:Europe/Madrid
BEGIN:STANDARD
DTSTART:20241027T020000
TZNAME:CET
TZOFFSETFROM:+0200
TZOFFSETTO:+0100
END:STANDARD
END:VTIMEZONE
END:VCALENDAR
