BEGIN:VCALENDAR
VERSION:2.0
PRODID:-//Plone.org//NONSGML plone.app.event//EN
X-WR-TIMEZONE:Europe/Madrid
BEGIN:VEVENT
SUMMARY:Zine foruma\, "Bikote krisiaren ikuspegi legala"
DTSTART;TZID=Etc/GMT-1:20140305T183000
DTEND;TZID=Etc/GMT-1:20140305T200000
DTSTAMP:20260421T085742Z
UID:79542eb5f7594ffdbdbb59df0831361e@backend:8080
CREATED:20211217T123151Z
DESCRIPTION:Hizlaria: Cristina Granell (abokatua /bitartekaritza)
LAST-MODIFIED:20221219T092925Z
LOCATION:Kultur Elkarteko Ekitaldi Aretoan
URL:http://backend:8080/Plone/eu/aktualitatea/agenda/zine-foruma-bikote-kr
 isiaren-ikuspegi-legala
END:VEVENT
END:VCALENDAR
