BEGIN:VCALENDAR
VERSION:2.0
PRODID:-//Plone.org//NONSGML plone.app.event//EN
X-WR-TIMEZONE:Europe/Madrid
BEGIN:VEVENT
SUMMARY:ZINEMA: Licorize pizza
DTSTART;TZID=Etc/GMT-2:20221016T190000
DTEND;TZID=Etc/GMT-2:20221016T203000
DTSTAMP:20260421T110420Z
UID:307e29d3d86e4b15b7c908d0ddce25be@backend:8080
CREATED:20221219T093309Z
DESCRIPTION:DEBADEZINE
LAST-MODIFIED:20221219T093309Z
LOCATION:Kultur elkartea
URL:http://backend:8080/Plone/eu/aktualitatea/agenda/zinema-licorize-pizza
END:VEVENT
END:VCALENDAR
